BEGIN:VCALENDAR
VERSION:2.0
PRODID:-//The Clay Oven - ECPv6.15.20//NONSGML v1.0//EN
CALSCALE:GREGORIAN
METHOD:PUBLISH
X-ORIGINAL-URL:https://theclayoven.co.uk
X-WR-CALDESC:Events for The Clay Oven
REFRESH-INTERVAL;VALUE=DURATION:PT1H
X-Robots-Tag:noindex
X-PUBLISHED-TTL:PT1H
BEGIN:VTIMEZONE
TZID:UTC
BEGIN:STANDARD
TZOFFSETFROM:+0000
TZOFFSETTO:+0000
TZNAME:UTC
DTSTART:20230101T000000
END:STANDARD
END:VTIMEZONE
BEGIN:VEVENT
DTSTART;TZID=UTC:20241231T193000
DTEND;TZID=UTC:20241231T193000
DTSTAMP:20260424T131209
CREATED:20231129T091349Z
LAST-MODIFIED:20241231T111309Z
UID:8736-1735673400-1735673400@theclayoven.co.uk
SUMMARY:New Year's Eve - LIVE BAND & DANCERS - SUITE 2
DESCRIPTION:DINNER AND DANCE \nDJ & Dancers \nSTARTERS: 8.30PM \nT/S \nPERI PERI CHICKEN TIKKA \nLAMB CHOPS \nBLACK PEPPER PRAWNS \nHARYALI PANEER SHASLIK \nHARA BHARA KEBAB \nPALAK PATTA CHAT \nMAIN COURSE: 9.45pm \nT/S \nBUTTER CHICKEN \nHANDI NALLI GOSHT \nALOO TAKA TAK \nBHINDI DO PYAZ \nMATTAR PANEER \nDAL BUKHARA \nPEAS PILAU RICE \nNAN: \nSTUFFED KULCHA \nROTI \nACCOMPANIMENTS: \nRAITA WITH POMEGRANATE \nKACHUMBAR SALAD \nDESSERT COUNTER \nKULFI \nGAJJAR KA HALWA \nRASMALAI \nTEA & COFFEE AFTER MIDNIGHT \nAll payment card details are held\, and any payments will be processed by Stripe Payments UK\, Ltd who acts on behalf of The Clay Oven UK Ltd. For full details of Stripe’s policy please visit https://stripe.com/gb/privacy \nAll bookings require full payment to secure your booking. \nIn the event that the booking is not honoured or is cancelled with less than 72hrs notice\, the full payment will be retained.
URL:https://theclayoven.co.uk/event/new-years-eve-dj-december-31/
LOCATION:Clay Oven\, 197 Ealing Road\, london\, Middlesex\, HA0 4LW\, United Kingdom
ATTACH;FMTTYPE=image/jpeg:https://theclayoven.co.uk/wp-content/uploads/2023/11/NYE-Banner-70-min.jpg
END:VEVENT
BEGIN:VEVENT
DTSTART;TZID=UTC:20241231T193000
DTEND;TZID=UTC:20241231T193000
DTSTAMP:20260424T131209
CREATED:20241108T121150Z
LAST-MODIFIED:20241231T111354Z
UID:10496-1735673400-1735673400@theclayoven.co.uk
SUMMARY:New Year's Eve - DJ & DANCERS - SUITE 1
DESCRIPTION:DINNER AND DANCE \nDJ & Dancers \nSTARTERS: 8.30PM \nT/S \nPERI PERI CHICKEN TIKKA \nLAMB CHOPS \nBLACK PEPPER PRAWNS \nHARYALI PANEER SHASLIK \nHARA BHARA KEBAB \nPALAK PATTA CHAT \nMAIN COURSE: 9.45pm \nT/S \nBUTTER CHICKEN \nHANDI NALLI GOSHT \nALOO TAKA TAK \nBHINDI DO PYAZ \nMATTAR PANEER \nDAL BUKHARA \nPEAS PILAU RICE \nNAN: \nSTUFFED KULCHA \nROTI \nACCOMPANIMENTS: \nRAITA WITH POMEGRANATE \nKACHUMBAR SALAD \nDESSERT COUNTER \nKULFI \nGAJJAR KA HALWA \nRASMALAI \nTEA & COFFEE AFTER MIDNIGHT \nAll payment card details are held\, and any payments will be processed by Stripe Payments UK\, Ltd who acts on behalf of The Clay Oven UK Ltd. For full details of Stripe’s policy please visit https://stripe.com/gb/privacy \nAll bookings require full payment to secure your booking. \nIn the event that the booking is not honoured or is cancelled with less than 72hrs notice\, the full payment will be retained.
URL:https://theclayoven.co.uk/event/new-years-eve-live-band/
LOCATION:Clay Oven\, 197 Ealing Road\, london\, Middlesex\, HA0 4LW\, United Kingdom
ATTACH;FMTTYPE=image/jpeg:https://theclayoven.co.uk/wp-content/uploads/2023/11/NYE-Banner-60-min.jpg
END:VEVENT
END:VCALENDAR