BEGIN:VCALENDAR
VERSION:2.0
PRODID:-//The Clay Oven - ECPv6.15.20//NONSGML v1.0//EN
CALSCALE:GREGORIAN
METHOD:PUBLISH
X-WR-CALNAME:The Clay Oven
X-ORIGINAL-URL:https://theclayoven.co.uk
X-WR-CALDESC:Events for The Clay Oven
REFRESH-INTERVAL;VALUE=DURATION:PT1H
X-Robots-Tag:noindex
X-PUBLISHED-TTL:PT1H
BEGIN:VTIMEZONE
TZID:UTC
BEGIN:STANDARD
TZOFFSETFROM:+0000
TZOFFSETTO:+0000
TZNAME:UTC
DTSTART:20240101T000000
END:STANDARD
END:VTIMEZONE
BEGIN:VEVENT
DTSTART;TZID=UTC:20251224T190000
DTEND;TZID=UTC:20251225T010000
DTSTAMP:20260419T232239
CREATED:20251008T200147Z
LAST-MODIFIED:20251010T054126Z
UID:12092-1766602800-1766624400@theclayoven.co.uk
SUMMARY:Christmas Dinner & Dance 24th December
DESCRIPTION:CHRISTMAS DINNER AND DANCE\nDJ\, Bollywood Dancers\, Magician \nPRE STARTERS BUFFET\nSAMOSA CHAT\nCHILLI GARLIC MOGO \nSTARTERS\nT/S\nPERI PERI CHICKEN TIKKA\nSEEKH KEBAB\nTANDDORI FISH TALAPIA\nPALAK PATTA CHAT\nCHILLI PANEER\nHARA BHARA KEBAB \nChutneys: green/hot & sweet mango\, pickles \nMAIN COURSE\nT/S\nMURG MAHARAJA\nLAMB DO PYAZ\n3 MIRCH KA PANEER\nNIZAMI HANDI\nALOO BAIGAN\nDAL MAKHANI \nJEERA RICE\nNAAN/KULCHA\nRAITA/SALAD \nDESSERT\nKULFI\nGAJER KA HALWA\nCHRISTMAS CAKE \nTRADITIONAL CHRISTMAS MENU – ROAST TURKEY\, BOILED VEGETABLES AND CURRY \nAll payment card details are held\, and any payments will be processed by Stripe Payments UK\, Ltd who acts on behalf of The Clay Oven UK Ltd. For full details of Stripe’s policy please visit https://stripe.com/gb/privacy \nAll bookings require full payment to secure your booking. \nIn the event that the booking is not honoured or is cancelled with less than 72hrs notice\, the full payment will be retained.
URL:https://theclayoven.co.uk/event/christmas-dinner-dance-4th-december/
LOCATION:Clay Oven\, 197 Ealing Road\, london\, Middlesex\, HA0 4LW\, United Kingdom
ATTACH;FMTTYPE=image/jpeg:https://theclayoven.co.uk/wp-content/uploads/2025/10/24th-Dec-Christmas-Dinner-Dance-ClayOven.jpg
END:VEVENT
BEGIN:VEVENT
DTSTART;TZID=UTC:20251231T190000
DTEND;TZID=UTC:20260101T010000
DTSTAMP:20260419T232239
CREATED:20251013T091253Z
LAST-MODIFIED:20260127T195110Z
UID:12216-1767207600-1767229200@theclayoven.co.uk
SUMMARY:NYE Dinner & Dance 31st December
DESCRIPTION:NYE DINNER AND DANCE\nDJ\, Bollywood Dancers\, LIVE SINGERS \nSTARTERS\nT/S\nMURG MALAI TIKKA\nLAMB BURRA KEBAB\nSCHEZWAN PRAWN\nSTUFFED MUSHROOM WITH PANEER\nBEETROOT TIKKI\nPALAK PATTA CHAT \nChutneys: green/hot & sweet mango\, pickles \nMAIN COURSE\nT/S\nBUTTER CHICKEN\nHANDI NALLI GOSHT\nALOO BAIGAN\nTEEN MIRCH KA PANEER\nSABZ MELONI\nDAL BUKHARA\nPEAS PILAU RICE \nNAAN\nSTUFFED KULCHA\nROTI \nDESSERT COUNTER\nKULFI\nGAJJAR KA HALWA\nRASMALAI \nTEA & COFFEE AFTER MIDNIGHT \nAll payment card details are held\, and any payments will be processed by Stripe Payments UK\, Ltd who acts on behalf of The Clay Oven UK Ltd. For full details of Stripe’s policy please visit https://stripe.com/gb/privacy \nAll bookings require full payment to secure your booking. \nIn the event that the booking is not honoured or is cancelled with less than 72hrs notice\, the full payment will be retained.
URL:https://theclayoven.co.uk/event/nye-dinner-dance-31st-december/
LOCATION:Clay Oven\, 197 Ealing Road\, london\, Middlesex\, HA0 4LW\, United Kingdom
ATTACH;FMTTYPE=image/jpeg:https://theclayoven.co.uk/wp-content/uploads/2025/10/31st-Dec-NYE-Dinner-Dance-ClayOven.jpg
END:VEVENT
BEGIN:VEVENT
DTSTART;TZID=UTC:20260214T190000
DTEND;TZID=UTC:20260215T010000
DTSTAMP:20260419T232239
CREATED:20260127T193632Z
LAST-MODIFIED:20260127T195021Z
UID:13002-1771095600-1771117200@theclayoven.co.uk
SUMMARY:Valentine's Dinner & Dance
DESCRIPTION:STARTERS– \n(TABLE SERVICE)\n  \n  \nACHARI CHICKEN TIKKA \nSEEKH KEBAB \nAMRITSARI FISH \nPALAK PATTA CHAT \nHARA BHARA KEBAB \nPANEER SHASLIK  \nCHUTNEYS AND PICKLES \n  \n  \nMAIN COURSE–    \n(TABLE SERVICE)        \n  \nBUTTER CHICKEN \nLAMB BHUNA  \nKARAHI PANEER \nNIZAMI HANDI \nDAL MAKHANI  \nJEERA RICE \nNAAN / PARATHA  \nRAITA/SALAD \n  \n  \nDESSERTS \nGAJJER HALWA \nKULFI \n  \nAll payment card details are held\, and any payments will be processed by Stripe Payments UK\, Ltd who acts on behalf of The Clay Oven UK Ltd. For full details of Stripe’s policy please visit https://stripe.com/gb/privacy \nAll bookings require full payment to secure your booking. \nIn the event that the booking is not honoured or is cancelled with less than 72hrs notice\, the full payment will be retained.
URL:https://theclayoven.co.uk/event/valentines-dinner-dance/
LOCATION:Middlesex
ATTACH;FMTTYPE=image/jpeg:https://theclayoven.co.uk/wp-content/uploads/2026/01/2.jpeg
END:VEVENT
BEGIN:VEVENT
DTSTART;TZID=UTC:20260314T190000
DTEND;TZID=UTC:20260315T010000
DTSTAMP:20260419T232239
CREATED:20260223T122237Z
LAST-MODIFIED:20260226T093440Z
UID:13136-1773514800-1773536400@theclayoven.co.uk
SUMMARY:Mauritian Independence Day Dinner And Dance
DESCRIPTION:STARTERS\nT/S \nACHARI CHICKEN TIKKA\nSEEKH KEBAB\nFISH AMRITSARI\nPALAK PATTA CHAT\nMAURITIAN CHILI CAKES (BAKED GATEAUX PIMENT)\nCHILLI PANEER\nCHUTNEY (SATINI COTOMILI) \nMAIN COURSE\nT/S \nCHICKEN STEW (BOUILION POULE)\nLAMB ROGAN JOSH\nALOO DUM\nRED KIDNEY BEANS (HARICOT ROUGE)\nDAL MAKHANI\nMAURITIAN BIRYANI\nNAAN / PARATHA\nRAITA\nCUCUMBER CHUTNEY (SATINI CONCOMBRE) \nDESSERTS – \nGAJJER KA HALWA\nKULFI \nKIDS MENU – CHIPS\, NUGGETS AND PIZZA
URL:https://theclayoven.co.uk/event/mauritian-independence-day-dinner-and-dance/
LOCATION:Middlesex
ATTACH;FMTTYPE=image/png:https://theclayoven.co.uk/wp-content/uploads/2026/02/Black-White-Modern-Coming-Soon-Email-Header-2.png
END:VEVENT
BEGIN:VEVENT
DTSTART;TZID=UTC:20260315T120000
DTEND;TZID=UTC:20260315T160000
DTSTAMP:20260419T232239
CREATED:20260223T132151Z
LAST-MODIFIED:20260227T215111Z
UID:13140-1773576000-1773590400@theclayoven.co.uk
SUMMARY:Mother's Day Lunch Buffet
DESCRIPTION:Menu for the function on SUNDAY\, 15 TH MARCH 2026\nAT CLAY OVEN BANQUETING SUITE \nCHAAT COUNTER \nGOL GAPPE\nPALAK PATTA CHAT\nBHEL PURI \nSOUP COUNTER \nMANCHOW VEG AND NON VEG \nLIVE CHINESE COUNTER \nSELECTION OF VEGETABLES AND\nMEAT SERVED WITH RICE AND NOODLES \nPASTA COUNTER \n2 TYPES OF PASTA\nPENNE ARRABIATA\nPASTA ALFREDO (WHITE SAUCE) \nKIDS COUNTER \nCHICKEN NUGGETS\, VEG PIZZA AND CHIPS \nTANDOORI COUNTER \nLAHSUNI CHICKEN TIKKA\nSEEKH KEBAB\nTANDOORI STUFFED ALOO\nSOYA CHAP\nPANEER SHASLIK\nChutneys &amp; pickles \nMAIN COURSE COUNTER \nBUTTER CHICKEN\nLAMB BHUNA\nSAAG ALOO\nHYDERABADI BAIGAN\nDAL MAKHANI\nJEERA RICE\nMIX BREADS\nSALAD / CUCUMBER RAITA / PAPAD \nDESSERT\nGAJJJER KA HALWA\nKULFI
URL:https://theclayoven.co.uk/event/mothers-day-lunch-buffet/
LOCATION:Middlesex
ATTACH;FMTTYPE=image/png:https://theclayoven.co.uk/wp-content/uploads/2026/02/Red-Black-and-White-Elegant-Valentines-Day-Email-Header-1.png
END:VEVENT
BEGIN:VEVENT
DTSTART;TZID=UTC:20260315T180000
DTEND;TZID=UTC:20260315T230000
DTSTAMP:20260419T232239
CREATED:20260223T132923Z
LAST-MODIFIED:20260227T214844Z
UID:13143-1773597600-1773615600@theclayoven.co.uk
SUMMARY:Mother's Day Dinner Buffet
DESCRIPTION:Menu for the function on SUNDAY\, 15 TH MARCH 2026\nAT CLAY OVEN BANQUETING SUITE \nCHAAT COUNTER \nGOL GAPPE\nPALAK PATTA CHAT\nBHEL PURI \nSOUP COUNTER \nMANCHOW VEG AND NON VEG \nLIVE CHINESE COUNTER \nSELECTION OF VEGETABLES AND\nMEAT SERVED WITH RICE AND NOODLES \nPASTA COUNTER \n2 TYPES OF PASTA\nPENNE ARRABIATA\nPASTA ALFREDO (WHITE SAUCE) \nKIDS COUNTER \nCHICKEN NUGGETS\, VEG PIZZA AND CHIPS \nTANDOORI COUNTER \nLAHSUNI CHICKEN TIKKA\nSEEKH KEBAB\nTANDOORI STUFFED ALOO\nSOYA CHAP\nPANEER SHASLIK\nChutneys &amp; pickles \nMAIN COURSE COUNTER \nBUTTER CHICKEN\nLAMB BHUNA\nSAAG ALOO\nHYDERABADI BAIGAN\nDAL MAKHANI\nJEERA RICE\nMIX BREADS\nSALAD / CUCUMBER RAITA / PAPAD \nDESSERT\nGAJJJER KA HALWA\nKULFI
URL:https://theclayoven.co.uk/event/mothers-day-dinner-buffet/
LOCATION:Middlesex
ATTACH;FMTTYPE=image/png:https://theclayoven.co.uk/wp-content/uploads/2026/02/Red-Black-and-White-Elegant-Valentines-Day-Email-Header-1.png
END:VEVENT
END:VCALENDAR