BEGIN:VCALENDAR
VERSION:2.0
PRODID:-//The Clay Oven - ECPv6.15.20//NONSGML v1.0//EN
CALSCALE:GREGORIAN
METHOD:PUBLISH
X-ORIGINAL-URL:https://theclayoven.co.uk
X-WR-CALDESC:Events for The Clay Oven
REFRESH-INTERVAL;VALUE=DURATION:PT1H
X-Robots-Tag:noindex
X-PUBLISHED-TTL:PT1H
BEGIN:VTIMEZONE
TZID:UTC
BEGIN:STANDARD
TZOFFSETFROM:+0000
TZOFFSETTO:+0000
TZNAME:UTC
DTSTART:20250101T000000
END:STANDARD
END:VTIMEZONE
BEGIN:VEVENT
DTSTART;TZID=UTC:20260315T120000
DTEND;TZID=UTC:20260315T160000
DTSTAMP:20260419T213027
CREATED:20260223T132151Z
LAST-MODIFIED:20260227T215111Z
UID:13140-1773576000-1773590400@theclayoven.co.uk
SUMMARY:Mother's Day Lunch Buffet
DESCRIPTION:Menu for the function on SUNDAY\, 15 TH MARCH 2026\nAT CLAY OVEN BANQUETING SUITE \nCHAAT COUNTER \nGOL GAPPE\nPALAK PATTA CHAT\nBHEL PURI \nSOUP COUNTER \nMANCHOW VEG AND NON VEG \nLIVE CHINESE COUNTER \nSELECTION OF VEGETABLES AND\nMEAT SERVED WITH RICE AND NOODLES \nPASTA COUNTER \n2 TYPES OF PASTA\nPENNE ARRABIATA\nPASTA ALFREDO (WHITE SAUCE) \nKIDS COUNTER \nCHICKEN NUGGETS\, VEG PIZZA AND CHIPS \nTANDOORI COUNTER \nLAHSUNI CHICKEN TIKKA\nSEEKH KEBAB\nTANDOORI STUFFED ALOO\nSOYA CHAP\nPANEER SHASLIK\nChutneys &amp; pickles \nMAIN COURSE COUNTER \nBUTTER CHICKEN\nLAMB BHUNA\nSAAG ALOO\nHYDERABADI BAIGAN\nDAL MAKHANI\nJEERA RICE\nMIX BREADS\nSALAD / CUCUMBER RAITA / PAPAD \nDESSERT\nGAJJJER KA HALWA\nKULFI
URL:https://theclayoven.co.uk/event/mothers-day-lunch-buffet/
LOCATION:Middlesex
ATTACH;FMTTYPE=image/png:https://theclayoven.co.uk/wp-content/uploads/2026/02/Red-Black-and-White-Elegant-Valentines-Day-Email-Header-1.png
END:VEVENT
BEGIN:VEVENT
DTSTART;TZID=UTC:20260315T180000
DTEND;TZID=UTC:20260315T230000
DTSTAMP:20260419T213027
CREATED:20260223T132923Z
LAST-MODIFIED:20260227T214844Z
UID:13143-1773597600-1773615600@theclayoven.co.uk
SUMMARY:Mother's Day Dinner Buffet
DESCRIPTION:Menu for the function on SUNDAY\, 15 TH MARCH 2026\nAT CLAY OVEN BANQUETING SUITE \nCHAAT COUNTER \nGOL GAPPE\nPALAK PATTA CHAT\nBHEL PURI \nSOUP COUNTER \nMANCHOW VEG AND NON VEG \nLIVE CHINESE COUNTER \nSELECTION OF VEGETABLES AND\nMEAT SERVED WITH RICE AND NOODLES \nPASTA COUNTER \n2 TYPES OF PASTA\nPENNE ARRABIATA\nPASTA ALFREDO (WHITE SAUCE) \nKIDS COUNTER \nCHICKEN NUGGETS\, VEG PIZZA AND CHIPS \nTANDOORI COUNTER \nLAHSUNI CHICKEN TIKKA\nSEEKH KEBAB\nTANDOORI STUFFED ALOO\nSOYA CHAP\nPANEER SHASLIK\nChutneys &amp; pickles \nMAIN COURSE COUNTER \nBUTTER CHICKEN\nLAMB BHUNA\nSAAG ALOO\nHYDERABADI BAIGAN\nDAL MAKHANI\nJEERA RICE\nMIX BREADS\nSALAD / CUCUMBER RAITA / PAPAD \nDESSERT\nGAJJJER KA HALWA\nKULFI
URL:https://theclayoven.co.uk/event/mothers-day-dinner-buffet/
LOCATION:Middlesex
ATTACH;FMTTYPE=image/png:https://theclayoven.co.uk/wp-content/uploads/2026/02/Red-Black-and-White-Elegant-Valentines-Day-Email-Header-1.png
END:VEVENT
END:VCALENDAR