BEGIN:VCALENDAR
VERSION:2.0
PRODID:-//The Clay Oven - ECPv6.15.20//NONSGML v1.0//EN
CALSCALE:GREGORIAN
METHOD:PUBLISH
X-WR-CALNAME:The Clay Oven
X-ORIGINAL-URL:https://theclayoven.co.uk
X-WR-CALDESC:Events for The Clay Oven
REFRESH-INTERVAL;VALUE=DURATION:PT1H
X-Robots-Tag:noindex
X-PUBLISHED-TTL:PT1H
BEGIN:VTIMEZONE
TZID:UTC
BEGIN:STANDARD
TZOFFSETFROM:+0000
TZOFFSETTO:+0000
TZNAME:UTC
DTSTART:20230101T000000
END:STANDARD
END:VTIMEZONE
BEGIN:VEVENT
DTSTART;TZID=UTC:20240310T193000
DTEND;TZID=UTC:20240311T010000
DTSTAMP:20260420T065801
CREATED:20240125T140413Z
LAST-MODIFIED:20240308T095322Z
UID:8814-1710099000-1710118800@theclayoven.co.uk
SUMMARY:MOTHERS DAY DINNER AND DANCE
DESCRIPTION:STARTERS \nT/S \nHARYALI CHICKEN TIKKA\nSEEKH KEBAB\nGRILLED FISH TALAPIA\nPALAK PATTA CHAT\nHARA BHARA KEBAB\nSAMOSA\nCHUTNEYS AND PICKLES \n  \nMAIN COURSE \nT/S \nBUTTER CHICKEN\nLAMB ROGAN JOSH \nKARAHI PANEER\nMIX VEG JELFREZI \nDAL MAKHANI\nJEERA RICE\nNAAN / PARATHA \nRAITA/SALAD \n  \nDESSERT: \nGAJJER HALWA\nKULFI \n  \nKIDS MENU ~ CHIPS\, NUGGETS AND PIZZA \n  \nMOTHERS DAY LUNCH \nONE GO BUFFET \nTANDOORI CHICKEN\nSEEKH KEBAB \nVEG SAMOSA\nHARA BHARA KEBAB \nCHUTNEYS AND PICKLES \nCHICKEN TIKKA MASALA\nKARAHI GOSHT \nDUM ALOO\nMATAR PANEER \nDAL MAKHANI\nJEERA RICE\nNAAN / PARATHA \nDAHI BHALLA\nSALAD \nGAJJER HALWA\nKULFI \nKIDS MENU — CHIPS\, NUGGETS AND PIZZA \n  \nCALL 020 8903 8800 OR VISIT US
URL:https://theclayoven.co.uk/event/mothers-day/
LOCATION:Clay Oven\, 197 Ealing Road\, london\, Middlesex\, HA0 4LW\, United Kingdom
ATTACH;FMTTYPE=image/jpeg:https://theclayoven.co.uk/wp-content/uploads/2024/01/Mothers-Day-dinner.jpg
END:VEVENT
BEGIN:VEVENT
DTSTART;TZID=UTC:20240310T120000
DTEND;TZID=UTC:20240310T160000
DTSTAMP:20260420T065801
CREATED:20240219T114855Z
LAST-MODIFIED:20240308T095138Z
UID:8850-1710072000-1710086400@theclayoven.co.uk
SUMMARY:MOTHERS DAY LUNCH
DESCRIPTION:STARTERS \nT/S \nHARYALI CHICKEN TIKKA\nSEEKH KEBAB\nGRILLED FISH TALAPIA\nPALAK PATTA CHAT\nHARA BHARA KEBAB\nSAMOSA\nCHUTNEYS AND PICKLES \n  \nMAIN COURSE \nT/S \nBUTTER CHICKEN\nLAMB ROGAN JOSH \nKARAHI PANEER\nMIX VEG JELFREZI \nDAL MAKHANI\nJEERA RICE\nNAAN / PARATHA \nRAITA/SALAD \n  \nDESSERT: \nGAJJER HALWA\nKULFI \n  \nKIDS MENU ~ CHIPS\, NUGGETS AND PIZZA \n  \nMOTHERS DAY LUNCH \nONE GO BUFFET \nTANDOORI CHICKEN\nSEEKH KEBAB \nVEG SAMOSA\nHARA BHARA KEBAB \nCHUTNEYS AND PICKLES \nCHICKEN TIKKA MASALA\nKARAHI GOSHT \nDUM ALOO\nMATAR PANEER \nDAL MAKHANI\nJEERA RICE\nNAAN / PARATHA \nDAHI BHALLA\nSALAD \nGAJJER HALWA\nKULFI \nKIDS MENU — CHIPS\, NUGGETS AND PIZZA \n  \nCALL 020 8903 8800 OR VISIT US
URL:https://theclayoven.co.uk/event/mothers-day-lunch/
LOCATION:Clay Oven\, 197 Ealing Road\, london\, Middlesex\, HA0 4LW\, United Kingdom
ATTACH;FMTTYPE=image/jpeg:https://theclayoven.co.uk/wp-content/uploads/2024/02/Mothers-Day-lunch.jpg
END:VEVENT
BEGIN:VEVENT
DTSTART;VALUE=DATE:20240216
DTEND;VALUE=DATE:20240217
DTSTAMP:20260420T065801
CREATED:20240201T140501Z
LAST-MODIFIED:20240201T141756Z
UID:8838-1708041600-1708127999@theclayoven.co.uk
SUMMARY:VALENTINES DINNER AND DANCE - FEB 16th
DESCRIPTION:STARTERS \nT/S \nTANDOORI CHICKEN\nSEEKH KEBAB\nAMRITSARI FISH\nPALAK PATTA CHAT\nHARA BHARA KEBAB\nGOBI 65\nCHUTNEYS AND PICKLES \n  \nMAIN COURSE \nT/S \nKARAHI CHICKEN\nLAAL MAAS \nKARAHI PANEER\nMIX VEG JELFREZI \nTARKA DAL\nJEERA RICE\nNAAN/PARATHA \n  \nDESSERT: \nGAJJER HALWA\nKULFI \n  \nKIDS MENU ~ CHIPS\, NUGGETS AND PIZZA \n  \nCALL 020 8903 8800 FOR TICKETS OR VISIT US
URL:https://theclayoven.co.uk/event/valentines-dinner-and-dance-2/
LOCATION:Clay Oven\, 197 Ealing Road\, london\, Middlesex\, HA0 4LW\, United Kingdom
ATTACH;FMTTYPE=image/jpeg:https://theclayoven.co.uk/wp-content/uploads/2024/02/Valentines-16th.jpg
END:VEVENT
BEGIN:VEVENT
DTSTART;VALUE=DATE:20240214
DTEND;VALUE=DATE:20240215
DTSTAMP:20260420T065801
CREATED:20240124T091950Z
LAST-MODIFIED:20240201T141719Z
UID:8812-1707868800-1707955199@theclayoven.co.uk
SUMMARY:VALENTINES DINNER AND DANCE - FEB 14th
DESCRIPTION:STARTERS \nT/S \nTANDOORI CHICKEN\nSEEKH KEBAB\nAMRITSARI FISH\nPALAK PATTA CHAT\nHARA BHARA KEBAB\nGOBI 65\nCHUTNEYS AND PICKLES \n  \nMAIN COURSE \nT/S \nKARAHI CHICKEN\nLAAL MAAS \nKARAHI PANEER\nMIX VEG JELFREZI \nTARKA DAL\nJEERA RICE\nNAAN/PARATHA \n  \nDESSERT: \nGAJJER HALWA\nKULFI \n  \nKIDS MENU ~ CHIPS\, NUGGETS AND PIZZA \n  \nCALL 020 8903 8800 FOR TICKETS OR VISIT US
URL:https://theclayoven.co.uk/event/valentines-day/
LOCATION:Clay Oven\, 197 Ealing Road\, london\, Middlesex\, HA0 4LW\, United Kingdom
ATTACH;FMTTYPE=image/jpeg:https://theclayoven.co.uk/wp-content/uploads/2024/01/Valentines-14th.jpg
END:VEVENT
END:VCALENDAR