BEGIN:VCALENDAR
VERSION:2.0
PRODID:-//The Clay Oven - ECPv6.15.20//NONSGML v1.0//EN
CALSCALE:GREGORIAN
METHOD:PUBLISH
X-WR-CALNAME:The Clay Oven
X-ORIGINAL-URL:https://theclayoven.co.uk
X-WR-CALDESC:Events for The Clay Oven
REFRESH-INTERVAL;VALUE=DURATION:PT1H
X-Robots-Tag:noindex
X-PUBLISHED-TTL:PT1H
BEGIN:VTIMEZONE
TZID:UTC
BEGIN:STANDARD
TZOFFSETFROM:+0000
TZOFFSETTO:+0000
TZNAME:UTC
DTSTART:20230101T000000
END:STANDARD
END:VTIMEZONE
BEGIN:VEVENT
DTSTART;TZID=UTC:20241221T193000
DTEND;TZID=UTC:20241221T193000
DTSTAMP:20260419T232555
CREATED:20231129T090310Z
LAST-MODIFIED:20241212T151626Z
UID:8730-1734809400-1734809400@theclayoven.co.uk
SUMMARY:Christmas Dinner & Dance 21st December
DESCRIPTION:DINNER AND DANCE \nDJ\, Live Singers\, Bollywood Dancers\, Magician \n  \nPRE-STARTERS-7.30pm \nBUFFET \nALOO TIKKI WITH CHANNA \nCHILLI GARLIC MOGO \n                                          \nSTARTERS- 8.30PM \nT/S \nACHARI CHICKEN TIKKA \nLAMB TIKKA \nGRILLED FISH TALAPIA \nPALAK PATTA CHAT \nCHILLI PANEER \nHARA BHARA KEBAB \n       \nChutneys: Green/Hot & Sweet Mango\, Pickles \nMAIN COURSE: 9.45pm \nT/S \nBUTTER CHICKEN \nLAMB ROGAN JOSH \nKARAHI PANEER \nMIX VEGETABLE \nALOO BAIGAN \nDAL MAKHNI \nJEERA RICE \nNAAN/KULCHA \nRAITA/SALAD \nDESSERT:                     \nKULFI \nGAJER KA HALWA \nCHRISTMAS CAKE  \nTRADITIONAL CHRISTMAS MENU – ROAST TURKEY\, BOILED VEGETABLES AND CURRY \nAll payment card details are held\, and any payments will be processed by Stripe Payments UK\, Ltd who acts on behalf of The Clay Oven UK Ltd. For full details of Stripe’s policy please visit https://stripe.com/gb/privacy \nAll bookings require full payment to secure your booking. \nIn the event that the booking is not honoured or is cancelled with less than 72hrs notice\, the full payment will be retained.
URL:https://theclayoven.co.uk/event/christmas-dinner-dance-december-21/
LOCATION:Clay Oven\, 197 Ealing Road\, london\, Middlesex\, HA0 4LW\, United Kingdom
ATTACH;FMTTYPE=image/jpeg:https://theclayoven.co.uk/wp-content/uploads/2023/11/Events-Banner-dec-21.jpg
END:VEVENT
BEGIN:VEVENT
DTSTART;TZID=UTC:20241220T193000
DTEND;TZID=UTC:20241220T193000
DTSTAMP:20260419T232555
CREATED:20231129T090110Z
LAST-MODIFIED:20241212T151430Z
UID:8729-1734723000-1734723000@theclayoven.co.uk
SUMMARY:Christmas Dinner & Dance 20th December
DESCRIPTION:DINNER AND DANCE \nDJ\, Belly Dancers\, Magician \n  \nPRE-STARTERS-7.30pm \nBUFFET \nALOO TIKKI WITH CHANNA \nCHILLI GARLIC MOGO \n                                          \nSTARTERS- 8.30PM \nT/S \nACHARI CHICKEN TIKKA \nLAMB TIKKA \nGRILLED FISH TALAPIA \nPALAK PATTA CHAT \nCHILLI PANEER \nHARA BHARA KEBAB \n       \nChutneys: Green/Hot & Sweet Mango\, Pickles \nMAIN COURSE: 9.45pm \nT/S \nBUTTER CHICKEN \nLAMB ROGAN JOSH \nKARAHI PANEER \nMIX VEGETABLE \nALOO BAIGAN \nDAL MAKHNI \nJEERA RICE \nNAAN/KULCHA \nRAITA/SALAD \nDESSERT:                     \nKULFI \nGAJER KA HALWA \nCHRISTMAS CAKE  \nTRADITIONAL CHRISTMAS MENU – ROAST TURKEY\, BOILED VEGETABLES AND CURRY \nAll payment card details are held\, and any payments will be processed by Stripe Payments UK\, Ltd who acts on behalf of The Clay Oven UK Ltd. For full details of Stripe’s policy please visit https://stripe.com/gb/privacy \nAll bookings require full payment to secure your booking. \nIn the event that the booking is not honoured or is cancelled with less than 72hrs notice\, the full payment will be retained.
URL:https://theclayoven.co.uk/event/christmas-dinner-dance-december-20-2/
LOCATION:Clay Oven\, 197 Ealing Road\, london\, Middlesex\, HA0 4LW\, United Kingdom
ATTACH;FMTTYPE=image/jpeg:https://theclayoven.co.uk/wp-content/uploads/2023/11/Events-Banner-dec-20.jpg
END:VEVENT
BEGIN:VEVENT
DTSTART;TZID=UTC:20241219T193000
DTEND;TZID=UTC:20241219T193000
DTSTAMP:20260419T232555
CREATED:20231129T085919Z
LAST-MODIFIED:20241217T154538Z
UID:8728-1734636600-1734636600@theclayoven.co.uk
SUMMARY:Christmas Dinner & Dance 19th December
DESCRIPTION:DINNER AND DANCE \nDJ \n  \nPRE-STARTERS-7.30pm \nBUFFET \nALOO TIKKI WITH CHANNA \nCHILLI GARLIC MOGO \n                                          \nSTARTERS- 8.30PM \nT/S \nACHARI CHICKEN TIKKA \nLAMB TIKKA \nGRILLED FISH TALAPIA \nPALAK PATTA CHAT \nCHILLI PANEER \nHARA BHARA KEBAB \n       \nChutneys: Green/Hot & Sweet Mango\, Pickles \nMAIN COURSE: 9.45pm \nT/S \nBUTTER CHICKEN \nLAMB ROGAN JOSH \nKARAHI PANEER \nMIX VEGETABLE \nALOO BAIGAN \nDAL MAKHNI \nJEERA RICE \nNAAN/KULCHA \nRAITA/SALAD \nDESSERT:                     \nKULFI \nGAJER KA HALWA \nCHRISTMAS CAKE  \nTRADITIONAL CHRISTMAS MENU – ROAST TURKEY\, BOILED VEGETABLES AND CURRY \nAll payment card details are held\, and any payments will be processed by Stripe Payments UK\, Ltd who acts on behalf of The Clay Oven UK Ltd. For full details of Stripe’s policy please visit https://stripe.com/gb/privacy \nAll bookings require full payment to secure your booking. \nIn the event that the booking is not honoured or is cancelled with less than 72hrs notice\, the full payment will be retained.
URL:https://theclayoven.co.uk/event/christmas-dinner-dance-december-19-2/
LOCATION:Clay Oven\, 197 Ealing Road\, london\, Middlesex\, HA0 4LW\, United Kingdom
ATTACH;FMTTYPE=image/jpeg:https://theclayoven.co.uk/wp-content/uploads/2023/11/Events-Banner-dec-19.jpg
END:VEVENT
BEGIN:VEVENT
DTSTART;TZID=UTC:20241215T193000
DTEND;TZID=UTC:20241215T193000
DTSTAMP:20260419T232555
CREATED:20231129T085514Z
LAST-MODIFIED:20241212T150547Z
UID:8727-1734291000-1734291000@theclayoven.co.uk
SUMMARY:Christmas Dinner & Dance 15th December
DESCRIPTION:DINNER AND DANCE \nDJ\, Bollywood Dancers \n  \nPRE-STARTERS-7.30pm \nBUFFET \nALOO TIKKI WITH CHANNA \nCHILLI GARLIC MOGO \n                                          \nSTARTERS- 8.30PM \nT/S \nACHARI CHICKEN TIKKA \nLAMB TIKKA \nGRILLED FISH TALAPIA \nPALAK PATTA CHAT \nCHILLI PANEER \nHARA BHARA KEBAB \n       \nChutneys: Green/Hot & Sweet Mango\, Pickles \nMAIN COURSE: 9.45pm \nT/S \nBUTTER CHICKEN \nLAMB ROGAN JOSH \nKARAHI PANEER \nMIX VEGETABLE \nALOO BAIGAN \nDAL MAKHNI \nJEERA RICE \nNAAN/KULCHA \nRAITA/SALAD \nDESSERT:                     \nKULFI \nGAJER KA HALWA \nCHRISTMAS CAKE  \nTRADITIONAL CHRISTMAS MENU – ROAST TURKEY\, BOILED VEGETABLES AND CURRY \nAll payment card details are held\, and any payments will be processed by Stripe Payments UK\, Ltd who acts on behalf of The Clay Oven UK Ltd. For full details of Stripe’s policy please visit https://stripe.com/gb/privacy \nAll bookings require full payment to secure your booking. \nIn the event that the booking is not honoured or is cancelled with less than 72hrs notice\, the full payment will be retained.
URL:https://theclayoven.co.uk/event/christmas-dinner-dance-december-15-2/
LOCATION:Clay Oven\, 197 Ealing Road\, london\, Middlesex\, HA0 4LW\, United Kingdom
ATTACH;FMTTYPE=image/jpeg:https://theclayoven.co.uk/wp-content/uploads/2023/11/Events-Banner-dec-15.jpg
END:VEVENT
BEGIN:VEVENT
DTSTART;TZID=UTC:20241213T193000
DTEND;TZID=UTC:20241213T193000
DTSTAMP:20260419T232555
CREATED:20231129T085339Z
LAST-MODIFIED:20241122T144021Z
UID:8726-1734118200-1734118200@theclayoven.co.uk
SUMMARY:Christmas Dinner & Dance 13th December
DESCRIPTION:DINNER AND DANCE \nDJ\, Belly Dancer\, Magician \n  \nPRE-STARTERS-7.30pm \nBUFFET \nALOO TIKKI WITH CHANNA \nCHILLI GARLIC MOGO \n                                          \nSTARTERS- 8.30PM \nT/S \nACHARI CHICKEN TIKKA \nLAMB TIKKA \nGRILLED FISH TALAPIA \nPALAK PATTA CHAT \nCHILLI PANEER \nHARA BHARA KEBAB \n       \nChutneys: Green/Hot & Sweet Mango\, Pickles \nMAIN COURSE: 9.45pm \nT/S \nBUTTER CHICKEN \nLAMB ROGAN JOSH \nKARAHI PANEER \nMIX VEGETABLE \nALOO BAIGAN \nDAL MAKHNI \nJEERA RICE \nNAAN/KULCHA \nRAITA/SALAD \nDESSERT:                     \nKULFI \nGAJER KA HALWA \nCHRISTMAS CAKE  \nTRADITIONAL CHRISTMAS MENU – ROAST TURKEY\, BOILED VEGETABLES AND CURRY \nAll payment card details are held\, and any payments will be processed by Stripe Payments UK\, Ltd who acts on behalf of The Clay Oven UK Ltd. For full details of Stripe’s policy please visit https://stripe.com/gb/privacy \nAll bookings require full payment to secure your booking. \nIn the event that the booking is not honoured or is cancelled with less than 72hrs notice\, the full payment will be retained.
URL:https://theclayoven.co.uk/event/christmas-dinner-dance-december-7/
LOCATION:Clay Oven\, 197 Ealing Road\, london\, Middlesex\, HA0 4LW\, United Kingdom
ATTACH;FMTTYPE=image/jpeg:https://theclayoven.co.uk/wp-content/uploads/2023/11/Events-Banner-dec-13.jpg
END:VEVENT
BEGIN:VEVENT
DTSTART;TZID=UTC:20241212T193000
DTEND;TZID=UTC:20241212T193000
DTSTAMP:20260419T232555
CREATED:20231129T085156Z
LAST-MODIFIED:20241212T145635Z
UID:8725-1734031800-1734031800@theclayoven.co.uk
SUMMARY:Christmas Dinner & Dance 12th December
DESCRIPTION:DINNER AND DANCE \nDJ \n  \nPRE-STARTERS-7.30pm \nBUFFET \nALOO TIKKI WITH CHANNA \nCHILLI GARLIC MOGO \n                                          \nSTARTERS- 8.30PM \nT/S \nACHARI CHICKEN TIKKA \nLAMB TIKKA \nGRILLED FISH TALAPIA \nPALAK PATTA CHAT \nCHILLI PANEER \nHARA BHARA KEBAB \n       \nChutneys: Green/Hot & Sweet Mango\, Pickles \nMAIN COURSE: 9.45pm \nT/S \nBUTTER CHICKEN \nLAMB ROGAN JOSH \nKARAHI PANEER \nMIX VEGETABLE \nALOO BAIGAN \nDAL MAKHNI \nJEERA RICE \nNAAN/KULCHA \nRAITA/SALAD \nDESSERT:                     \nKULFI \nGAJER KA HALWA \nCHRISTMAS CAKE  \nTRADITIONAL CHRISTMAS MENU – ROAST TURKEY\, BOILED VEGETABLES AND CURRY \nAll payment card details are held\, and any payments will be processed by Stripe Payments UK\, Ltd who acts on behalf of The Clay Oven UK Ltd. For full details of Stripe’s policy please visit https://stripe.com/gb/privacy \nAll bookings require full payment to secure your booking. \nIn the event that the booking is not honoured or is cancelled with less than 72hrs notice\, the full payment will be retained.
URL:https://theclayoven.co.uk/event/christmas-dinner-dance-december-12-2/
LOCATION:Clay Oven\, 197 Ealing Road\, london\, Middlesex\, HA0 4LW\, United Kingdom
ATTACH;FMTTYPE=image/jpeg:https://theclayoven.co.uk/wp-content/uploads/2023/11/Events-Banner-Dec-12.jpg
END:VEVENT
BEGIN:VEVENT
DTSTART;TZID=UTC:20241208T193000
DTEND;TZID=UTC:20241208T193000
DTSTAMP:20260419T232555
CREATED:20231129T084907Z
LAST-MODIFIED:20241122T144033Z
UID:8724-1733686200-1733686200@theclayoven.co.uk
SUMMARY:Christmas Dinner & Dance 8th December
DESCRIPTION:DINNER AND DANCE \nDJ\, Bollywood Dancers \n  \nPRE-STARTERS-7.30pm \nBUFFET \nALOO TIKKI WITH CHANNA \nCHILLI GARLIC MOGO \n                                          \nSTARTERS- 8.30PM \nT/S \nACHARI CHICKEN TIKKA \nLAMB TIKKA \nGRILLED FISH TALAPIA \nPALAK PATTA CHAT \nCHILLI PANEER \nHARA BHARA KEBAB \n       \nChutneys: Green/Hot & Sweet Mango\, Pickles \nMAIN COURSE: 9.45pm \nT/S \nBUTTER CHICKEN \nLAMB ROGAN JOSH \nKARAHI PANEER \nMIX VEGETABLE \nALOO BAIGAN \nDAL MAKHNI \nJEERA RICE \nNAAN/KULCHA \nRAITA/SALAD \nDESSERT:                     \nKULFI \nGAJER KA HALWA \nCHRISTMAS CAKE  \nTRADITIONAL CHRISTMAS MENU – ROAST TURKEY\, BOILED VEGETABLES AND CURRY \nAll payment card details are held\, and any payments will be processed by Stripe Payments UK\, Ltd who acts on behalf of The Clay Oven UK Ltd. For full details of Stripe’s policy please visit https://stripe.com/gb/privacy \nAll bookings require full payment to secure your booking. \nIn the event that the booking is not honoured or is cancelled with less than 72hrs notice\, the full payment will be retained.
URL:https://theclayoven.co.uk/event/christmas-dinner-dance-december-8-2/
LOCATION:Clay Oven\, 197 Ealing Road\, london\, Middlesex\, HA0 4LW\, United Kingdom
ATTACH;FMTTYPE=image/jpeg:https://theclayoven.co.uk/wp-content/uploads/2023/11/Events-Banner-Dec-8.jpg
END:VEVENT
BEGIN:VEVENT
DTSTART;TZID=UTC:20241207T193000
DTEND;TZID=UTC:20241207T193000
DTSTAMP:20260419T232555
CREATED:20231129T084603Z
LAST-MODIFIED:20241122T144039Z
UID:8723-1733599800-1733599800@theclayoven.co.uk
SUMMARY:Christmas Dinner & Dance 7th December
DESCRIPTION:DINNER AND DANCE \nDJ\, Live Singers\, Magician\, Bollywood Dancers \n  \nPRE-STARTERS-7.30pm \nBUFFET \nALOO TIKKI WITH CHANNA \nCHILLI GARLIC MOGO \n                                          \nSTARTERS- 8.30PM \nT/S \nACHARI CHICKEN TIKKA \nLAMB TIKKA \nGRILLED FISH TALAPIA \nPALAK PATTA CHAT \nCHILLI PANEER \nHARA BHARA KEBAB \n       \nChutneys: Green/Hot & Sweet Mango\, Pickles \nMAIN COURSE: 9.45pm \nT/S \nBUTTER CHICKEN \nLAMB ROGAN JOSH \nKARAHI PANEER \nMIX VEGETABLE \nALOO BAIGAN \nDAL MAKHNI \nJEERA RICE \nNAAN/KULCHA \nRAITA/SALAD \nDESSERT:                     \nKULFI \nGAJER KA HALWA \nCHRISTMAS CAKE  \nTRADITIONAL CHRISTMAS MENU – ROAST TURKEY\, BOILED VEGETABLES AND CURRY \nAll payment card details are held\, and any payments will be processed by Stripe Payments UK\, Ltd who acts on behalf of The Clay Oven UK Ltd. For full details of Stripe’s policy please visit https://stripe.com/gb/privacy \nAll bookings require full payment to secure your booking. \nIn the event that the booking is not honoured or is cancelled with less than 72hrs notice\, the full payment will be retained.
URL:https://theclayoven.co.uk/event/christmas-dinner-dance-december-7-2/
LOCATION:Clay Oven\, 197 Ealing Road\, london\, Middlesex\, HA0 4LW\, United Kingdom
ATTACH;FMTTYPE=image/jpeg:https://theclayoven.co.uk/wp-content/uploads/2023/11/Events-Banner-Dec-7.jpg
END:VEVENT
BEGIN:VEVENT
DTSTART;TZID=UTC:20241206T193000
DTEND;TZID=UTC:20241206T193000
DTSTAMP:20260419T232555
CREATED:20231129T083819Z
LAST-MODIFIED:20241122T144044Z
UID:8721-1733513400-1733513400@theclayoven.co.uk
SUMMARY:Christmas Dinner & Dance 6th December
DESCRIPTION:DINNER AND DANCE \nDJ\, Belly Dance\, Magician \n  \nPRE-STARTERS-7.30pm \nBUFFET \nALOO TIKKI WITH CHANNA \nCHILLI GARLIC MOGO \n                                          \nSTARTERS- 8.30PM \nT/S \nACHARI CHICKEN TIKKA \nLAMB TIKKA \nGRILLED FISH TALAPIA \nPALAK PATTA CHAT \nCHILLI PANEER \nHARA BHARA KEBAB \n       \nChutneys: Green/Hot & Sweet Mango\, Pickles \nMAIN COURSE: 9.45pm \nT/S \nBUTTER CHICKEN \nLAMB ROGAN JOSH \nKARAHI PANEER \nMIX VEGETABLE \nALOO BAIGAN \nDAL MAKHNI \nJEERA RICE \nNAAN/KULCHA \nRAITA/SALAD \nDESSERT:                     \nKULFI \nGAJER KA HALWA \nCHRISTMAS CAKE  \nTRADITIONAL CHRISTMAS MENU – ROAST TURKEY\, BOILED VEGETABLES AND CURRY \nAll payment card details are held\, and any payments will be processed by Stripe Payments UK\, Ltd who acts on behalf of The Clay Oven UK Ltd. For full details of Stripe’s policy please visit https://stripe.com/gb/privacy \nAll bookings require full payment to secure your booking. \nIn the event that the booking is not honoured or is cancelled with less than 72hrs notice\, the full payment will be retained.
URL:https://theclayoven.co.uk/event/christmas-dinner-dance-december-6/
LOCATION:Clay Oven\, 197 Ealing Road\, london\, Middlesex\, HA0 4LW\, United Kingdom
ATTACH;FMTTYPE=image/jpeg:https://theclayoven.co.uk/wp-content/uploads/2023/11/Events-Banner-6-Dec.jpg
END:VEVENT
BEGIN:VEVENT
DTSTART;TZID=UTC:20241205T193000
DTEND;TZID=UTC:20241205T193000
DTSTAMP:20260419T232556
CREATED:20231129T084020Z
LAST-MODIFIED:20241122T144051Z
UID:8722-1733427000-1733427000@theclayoven.co.uk
SUMMARY:Christmas Dinner & Dance 5th December
DESCRIPTION:DINNER AND DANCE \nDJ ONLY \n  \nPRE-STARTERS-7.30pm \nBUFFET \nALOO TIKKI WITH CHANNA \nCHILLI GARLIC MOGO \n                                          \nSTARTERS- 8.30PM \nT/S \nACHARI CHICKEN TIKKA \nLAMB TIKKA \nGRILLED FISH TALAPIA \nPALAK PATTA CHAT \nCHILLI PANEER \nHARA BHARA KEBAB \n       \nChutneys: Green/Hot & Sweet Mango\, Pickles \nMAIN COURSE: 9.45pm \nT/S \nBUTTER CHICKEN \nLAMB ROGAN JOSH \nKARAHI PANEER \nMIX VEGETABLE \nALOO BAIGAN \nDAL MAKHNI \nJEERA RICE \nNAAN/KULCHA \nRAITA/SALAD \nDESSERT:                     \nKULFI \nGAJER KA HALWA \nCHRISTMAS CAKE  \nTRADITIONAL CHRISTMAS MENU – ROAST TURKEY\, BOILED VEGETABLES AND CURRY \nAll payment card details are held\, and any payments will be processed by Stripe Payments UK\, Ltd who acts on behalf of The Clay Oven UK Ltd. For full details of Stripe’s policy please visit https://stripe.com/gb/privacy \nAll bookings require full payment to secure your booking. \nIn the event that the booking is not honoured or is cancelled with less than 72hrs notice\, the full payment will be retained.
URL:https://theclayoven.co.uk/event/christmas-dinner-dance-december-5/
LOCATION:Clay Oven\, 197 Ealing Road\, london\, Middlesex\, HA0 4LW\, United Kingdom
ATTACH;FMTTYPE=image/jpeg:https://theclayoven.co.uk/wp-content/uploads/2023/11/Events-Banner-5-Dec-1.jpg
END:VEVENT
BEGIN:VEVENT
DTSTART;TZID=UTC:20241110T193000
DTEND;TZID=UTC:20241110T193000
DTSTAMP:20260419T232556
CREATED:20240827T110351Z
LAST-MODIFIED:20241122T144057Z
UID:9363-1731267000-1731267000@theclayoven.co.uk
SUMMARY:Diwali Dinner & Dance 10th November
DESCRIPTION:DJ\, Dancers \n  \nDINNER AND DANCE \nPRE-STARTERS-7.30pm\nBUFFET\nBHEL PURI\nCHILLI MOGO \nSTARTERS- 8.30PM\nT/S\nPERI PERI CHICKEN TIKKA\nSEEKH KEBAB\nPALAK PATTA CHAAT\nCHILLI PANEER\nALOO BONDA \nChutneys: Green/Hot &Amp; Sweet Mango\, Pickles \nMAIN COURSE: 9.45pm\nT/S\nBUTTER CHICKEN\nKARAHI GOSHT \nMATAR PANEER\nALOO TAKA TAK\nDAL BUKHARA \nPILLAU RICE\nNAAN/ROTI\nRAITA/SALAD \nDESSERT:\nKULFI\nGAJER KA HALWA \nAll payment card details are held\, and any payments will be processed by Stripe Payments UK\, Ltd who acts on behalf of The Clay Oven UK Ltd. For full details of Stripe’s policy please visit https://stripe.com/gb/privacy \nAll bookings require full payment to secure your booking. \nIn the event that the booking is not honoured or is cancelled with less than 72hrs notice\, the full payment will be retained.
URL:https://theclayoven.co.uk/event/diwali-dinner-dance-10th-november/
LOCATION:Clay Oven\, 197 Ealing Road\, london\, Middlesex\, HA0 4LW\, United Kingdom
CATEGORIES:Events
ATTACH;FMTTYPE=image/jpeg:https://theclayoven.co.uk/wp-content/uploads/2022/05/diwali-event-img-1.jpg
END:VEVENT
BEGIN:VEVENT
DTSTART;TZID=UTC:20241108T193000
DTEND;TZID=UTC:20241108T193000
DTSTAMP:20260419T232556
CREATED:20240827T110132Z
LAST-MODIFIED:20241122T144103Z
UID:9360-1731094200-1731094200@theclayoven.co.uk
SUMMARY:Diwali Dinner & Dance 8th November
DESCRIPTION:DJ\, Dancers \n  \nDINNER AND DANCE \nPRE-STARTERS-7.30pm\nBUFFET\nBHEL PURI\nCHILLI MOGO \nSTARTERS- 8.30PM\nT/S\nPERI PERI CHICKEN TIKKA\nSEEKH KEBAB\nPALAK PATTA CHAAT\nCHILLI PANEER\nALOO BONDA \nChutneys: Green/Hot &Amp; Sweet Mango\, Pickles \nMAIN COURSE: 9.45pm\nT/S\nBUTTER CHICKEN\nKARAHI GOSHT \nMATAR PANEER\nALOO TAKA TAK\nDAL BUKHARA \nPILLAU RICE\nNAAN/ROTI\nRAITA/SALAD \nDESSERT:\nKULFI\nGAJER KA HALWA \nAll payment card details are held\, and any payments will be processed by Stripe Payments UK\, Ltd who acts on behalf of The Clay Oven UK Ltd. For full details of Stripe’s policy please visit https://stripe.com/gb/privacy \nAll bookings require full payment to secure your booking. \nIn the event that the booking is not honoured or is cancelled with less than 72hrs notice\, the full payment will be retained.
URL:https://theclayoven.co.uk/event/diwali-dinner-dance-8th-november/
LOCATION:Clay Oven\, 197 Ealing Road\, london\, Middlesex\, HA0 4LW\, United Kingdom
CATEGORIES:Events
ATTACH;FMTTYPE=image/jpeg:https://theclayoven.co.uk/wp-content/uploads/2022/05/diwali-event-img-1.jpg
END:VEVENT
BEGIN:VEVENT
DTSTART;TZID=UTC:20241103T193000
DTEND;TZID=UTC:20241103T193000
DTSTAMP:20260419T232556
CREATED:20240827T105705Z
LAST-MODIFIED:20241122T144109Z
UID:9358-1730662200-1730662200@theclayoven.co.uk
SUMMARY:Diwali Dinner & Dance 3rd November
DESCRIPTION:DJ\, Dancers \n  \nDINNER AND DANCE \nPRE-STARTERS-7.30pm\nBUFFET\nBHEL PURI\nCHILLI MOGO \nSTARTERS- 8.30PM\nT/S\nPERI PERI CHICKEN TIKKA\nSEEKH KEBAB\nPALAK PATTA CHAAT\nCHILLI PANEER\nALOO BONDA \nChutneys: Green/Hot &Amp; Sweet Mango\, Pickles \nMAIN COURSE: 9.45pm\nT/S\nBUTTER CHICKEN\nKARAHI GOSHT \nMATAR PANEER\nALOO TAKA TAK\nDAL BUKHARA \nPILLAU RICE\nNAAN/ROTI\nRAITA/SALAD \nDESSERT:\nKULFI\nGAJER KA HALWA \nAll payment card details are held\, and any payments will be processed by Stripe Payments UK\, Ltd who acts on behalf of The Clay Oven UK Ltd. For full details of Stripe’s policy please visit https://stripe.com/gb/privacy \nAll bookings require full payment to secure your booking. \nIn the event that the booking is not honoured or is cancelled with less than 72hrs notice\, the full payment will be retained.
URL:https://theclayoven.co.uk/event/diwali-dinner-dance-3rd-november/
LOCATION:Clay Oven\, 197 Ealing Road\, london\, Middlesex\, HA0 4LW\, United Kingdom
CATEGORIES:Events
ATTACH;FMTTYPE=image/jpeg:https://theclayoven.co.uk/wp-content/uploads/2022/05/diwali-event-img-1.jpg
END:VEVENT
BEGIN:VEVENT
DTSTART;TZID=UTC:20241102T193000
DTEND;TZID=UTC:20241102T193000
DTSTAMP:20260419T232556
CREATED:20240827T105233Z
LAST-MODIFIED:20241122T144114Z
UID:9356-1730575800-1730575800@theclayoven.co.uk
SUMMARY:Diwali Dinner & Dance 2nd November
DESCRIPTION:DJ\, Live Singers\, Dancers \nDINNER AND DANCE \nPRE-STARTERS-7.30pm\nBUFFET\nBHEL PURI\nCHILLI MOGO \nSTARTERS- 8.30PM\nT/S\nPERI PERI CHICKEN TIKKA\nSEEKH KEBAB\nPALAK PATTA CHAAT\nCHILLI PANEER\nALOO BONDA \nChutneys: Green/Hot &Amp; Sweet Mango\, Pickles \nMAIN COURSE: 9.45pm\nT/S\nBUTTER CHICKEN\nKARAHI GOSHT \nMATAR PANEER\nALOO TAKA TAK\nDAL BUKHARA \nPILLAU RICE\nNAAN/ROTI\nRAITA/SALAD \nDESSERT:\nKULFI\nGAJER KA HALWA \nAll payment card details are held\, and any payments will be processed by Stripe Payments UK\, Ltd who acts on behalf of The Clay Oven UK Ltd. For full details of Stripe’s policy please visit https://stripe.com/gb/privacy \nAll bookings require full payment to secure your booking. \nIn the event that the booking is not honoured or is cancelled with less than 72hrs notice\, the full payment will be retained.
URL:https://theclayoven.co.uk/event/diwali-dinner-dance-2nd-november/
LOCATION:Clay Oven\, 197 Ealing Road\, london\, Middlesex\, HA0 4LW\, United Kingdom
CATEGORIES:Events
ATTACH;FMTTYPE=image/jpeg:https://theclayoven.co.uk/wp-content/uploads/2022/05/diwali-event-img-1.jpg
END:VEVENT
BEGIN:VEVENT
DTSTART;TZID=UTC:20241026T193000
DTEND;TZID=UTC:20241026T193000
DTSTAMP:20260419T232556
CREATED:20240827T104554Z
LAST-MODIFIED:20241120T194347Z
UID:9354-1729971000-1729971000@theclayoven.co.uk
SUMMARY:Diwali Dinner & Dance 26th October
DESCRIPTION:DJ\, Live Singers\, Dancers \nDINNER AND DANCE \nPRE-STARTERS-7.30pm\nBUFFET\nBHEL PURI\nCHILLI MOGO \nSTARTERS- 8.30PM\nT/S\nPERI PERI CHICKEN TIKKA\nSEEKH KEBAB\nPALAK PATTA CHAAT\nCHILLI PANEER\nALOO BONDA \nChutneys: Green/Hot &Amp; Sweet Mango\, Pickles \nMAIN COURSE: 9.45pm\nT/S\nBUTTER CHICKEN\nKARAHI GOSHT \nMATAR PANEER\nALOO TAKA TAK\nDAL BUKHARA \nPILLAU RICE\nNAAN/ROTI\nRAITA/SALAD \nDESSERT:\nKULFI\nGAJER KA HALWA \nAll payment card details are held\, and any payments will be processed by Stripe Payments UK\, Ltd who acts on behalf of The Clay Oven UK Ltd. For full details of Stripe’s policy please visit https://stripe.com/gb/privacy \nAll bookings require full payment to secure your booking. \nIn the event that the booking is not honoured or is cancelled with less than 72hrs notice\, the full payment will be retained.
URL:https://theclayoven.co.uk/event/diwali-dinner-dance-26th-october/
LOCATION:Clay Oven\, 197 Ealing Road\, london\, Middlesex\, HA0 4LW\, United Kingdom
CATEGORIES:Events
ATTACH;FMTTYPE=image/jpeg:https://theclayoven.co.uk/wp-content/uploads/2022/05/diwali-event-img-1.jpg
END:VEVENT
BEGIN:VEVENT
DTSTART;TZID=UTC:20241025T193000
DTEND;TZID=UTC:20241025T193000
DTSTAMP:20260419T232556
CREATED:20240827T104046Z
LAST-MODIFIED:20241015T064816Z
UID:9350-1729884600-1729884600@theclayoven.co.uk
SUMMARY:Diwali Dinner & Dance 25th October
DESCRIPTION:DJ\, Dancers \nDINNER AND DANCE \nPRE-STARTERS-7.30pm\nBUFFET\nBHEL PURI\nCHILLI MOGO \nSTARTERS- 8.30PM\nT/S\nPERI PERI CHICKEN TIKKA\nSEEKH KEBAB\nPALAK PATTA CHAAT\nCHILLI PANEER\nALOO BONDA \nChutneys: Green/Hot &Amp; Sweet Mango\, Pickles \nMAIN COURSE: 9.45pm\nT/S\nBUTTER CHICKEN\nKARAHI GOSHT \nMATAR PANEER\nALOO TAKA TAK\nDAL BUKHARA \nPILLAU RICE\nNAAN/ROTI\nRAITA/SALAD \nDESSERT:\nKULFI\nGAJER KA HALWA
URL:https://theclayoven.co.uk/event/diwali-dinner-dance-october-25/
LOCATION:Clay Oven\, 197 Ealing Road\, london\, Middlesex\, HA0 4LW\, United Kingdom
ATTACH;FMTTYPE=image/jpeg:https://theclayoven.co.uk/wp-content/uploads/2022/05/diwali-event-img-1.jpg
END:VEVENT
BEGIN:VEVENT
DTSTART;TZID=UTC:20240310T193000
DTEND;TZID=UTC:20240311T010000
DTSTAMP:20260419T232556
CREATED:20240125T140413Z
LAST-MODIFIED:20240308T095322Z
UID:8814-1710099000-1710118800@theclayoven.co.uk
SUMMARY:MOTHERS DAY DINNER AND DANCE
DESCRIPTION:STARTERS \nT/S \nHARYALI CHICKEN TIKKA\nSEEKH KEBAB\nGRILLED FISH TALAPIA\nPALAK PATTA CHAT\nHARA BHARA KEBAB\nSAMOSA\nCHUTNEYS AND PICKLES \n  \nMAIN COURSE \nT/S \nBUTTER CHICKEN\nLAMB ROGAN JOSH \nKARAHI PANEER\nMIX VEG JELFREZI \nDAL MAKHANI\nJEERA RICE\nNAAN / PARATHA \nRAITA/SALAD \n  \nDESSERT: \nGAJJER HALWA\nKULFI \n  \nKIDS MENU ~ CHIPS\, NUGGETS AND PIZZA \n  \nMOTHERS DAY LUNCH \nONE GO BUFFET \nTANDOORI CHICKEN\nSEEKH KEBAB \nVEG SAMOSA\nHARA BHARA KEBAB \nCHUTNEYS AND PICKLES \nCHICKEN TIKKA MASALA\nKARAHI GOSHT \nDUM ALOO\nMATAR PANEER \nDAL MAKHANI\nJEERA RICE\nNAAN / PARATHA \nDAHI BHALLA\nSALAD \nGAJJER HALWA\nKULFI \nKIDS MENU — CHIPS\, NUGGETS AND PIZZA \n  \nCALL 020 8903 8800 OR VISIT US
URL:https://theclayoven.co.uk/event/mothers-day/
LOCATION:Clay Oven\, 197 Ealing Road\, london\, Middlesex\, HA0 4LW\, United Kingdom
ATTACH;FMTTYPE=image/jpeg:https://theclayoven.co.uk/wp-content/uploads/2024/01/Mothers-Day-dinner.jpg
END:VEVENT
BEGIN:VEVENT
DTSTART;TZID=UTC:20240310T120000
DTEND;TZID=UTC:20240310T160000
DTSTAMP:20260419T232556
CREATED:20240219T114855Z
LAST-MODIFIED:20240308T095138Z
UID:8850-1710072000-1710086400@theclayoven.co.uk
SUMMARY:MOTHERS DAY LUNCH
DESCRIPTION:STARTERS \nT/S \nHARYALI CHICKEN TIKKA\nSEEKH KEBAB\nGRILLED FISH TALAPIA\nPALAK PATTA CHAT\nHARA BHARA KEBAB\nSAMOSA\nCHUTNEYS AND PICKLES \n  \nMAIN COURSE \nT/S \nBUTTER CHICKEN\nLAMB ROGAN JOSH \nKARAHI PANEER\nMIX VEG JELFREZI \nDAL MAKHANI\nJEERA RICE\nNAAN / PARATHA \nRAITA/SALAD \n  \nDESSERT: \nGAJJER HALWA\nKULFI \n  \nKIDS MENU ~ CHIPS\, NUGGETS AND PIZZA \n  \nMOTHERS DAY LUNCH \nONE GO BUFFET \nTANDOORI CHICKEN\nSEEKH KEBAB \nVEG SAMOSA\nHARA BHARA KEBAB \nCHUTNEYS AND PICKLES \nCHICKEN TIKKA MASALA\nKARAHI GOSHT \nDUM ALOO\nMATAR PANEER \nDAL MAKHANI\nJEERA RICE\nNAAN / PARATHA \nDAHI BHALLA\nSALAD \nGAJJER HALWA\nKULFI \nKIDS MENU — CHIPS\, NUGGETS AND PIZZA \n  \nCALL 020 8903 8800 OR VISIT US
URL:https://theclayoven.co.uk/event/mothers-day-lunch/
LOCATION:Clay Oven\, 197 Ealing Road\, london\, Middlesex\, HA0 4LW\, United Kingdom
ATTACH;FMTTYPE=image/jpeg:https://theclayoven.co.uk/wp-content/uploads/2024/02/Mothers-Day-lunch.jpg
END:VEVENT
BEGIN:VEVENT
DTSTART;VALUE=DATE:20240216
DTEND;VALUE=DATE:20240217
DTSTAMP:20260419T232556
CREATED:20240201T140501Z
LAST-MODIFIED:20240201T141756Z
UID:8838-1708041600-1708127999@theclayoven.co.uk
SUMMARY:VALENTINES DINNER AND DANCE - FEB 16th
DESCRIPTION:STARTERS \nT/S \nTANDOORI CHICKEN\nSEEKH KEBAB\nAMRITSARI FISH\nPALAK PATTA CHAT\nHARA BHARA KEBAB\nGOBI 65\nCHUTNEYS AND PICKLES \n  \nMAIN COURSE \nT/S \nKARAHI CHICKEN\nLAAL MAAS \nKARAHI PANEER\nMIX VEG JELFREZI \nTARKA DAL\nJEERA RICE\nNAAN/PARATHA \n  \nDESSERT: \nGAJJER HALWA\nKULFI \n  \nKIDS MENU ~ CHIPS\, NUGGETS AND PIZZA \n  \nCALL 020 8903 8800 FOR TICKETS OR VISIT US
URL:https://theclayoven.co.uk/event/valentines-dinner-and-dance-2/
LOCATION:Clay Oven\, 197 Ealing Road\, london\, Middlesex\, HA0 4LW\, United Kingdom
ATTACH;FMTTYPE=image/jpeg:https://theclayoven.co.uk/wp-content/uploads/2024/02/Valentines-16th.jpg
END:VEVENT
BEGIN:VEVENT
DTSTART;VALUE=DATE:20240214
DTEND;VALUE=DATE:20240215
DTSTAMP:20260419T232556
CREATED:20240124T091950Z
LAST-MODIFIED:20240201T141719Z
UID:8812-1707868800-1707955199@theclayoven.co.uk
SUMMARY:VALENTINES DINNER AND DANCE - FEB 14th
DESCRIPTION:STARTERS \nT/S \nTANDOORI CHICKEN\nSEEKH KEBAB\nAMRITSARI FISH\nPALAK PATTA CHAT\nHARA BHARA KEBAB\nGOBI 65\nCHUTNEYS AND PICKLES \n  \nMAIN COURSE \nT/S \nKARAHI CHICKEN\nLAAL MAAS \nKARAHI PANEER\nMIX VEG JELFREZI \nTARKA DAL\nJEERA RICE\nNAAN/PARATHA \n  \nDESSERT: \nGAJJER HALWA\nKULFI \n  \nKIDS MENU ~ CHIPS\, NUGGETS AND PIZZA \n  \nCALL 020 8903 8800 FOR TICKETS OR VISIT US
URL:https://theclayoven.co.uk/event/valentines-day/
LOCATION:Clay Oven\, 197 Ealing Road\, london\, Middlesex\, HA0 4LW\, United Kingdom
ATTACH;FMTTYPE=image/jpeg:https://theclayoven.co.uk/wp-content/uploads/2024/01/Valentines-14th.jpg
END:VEVENT
END:VCALENDAR