BEGIN:VCALENDAR
VERSION:2.0
PRODID:-//The Clay Oven - ECPv6.15.20//NONSGML v1.0//EN
CALSCALE:GREGORIAN
METHOD:PUBLISH
X-ORIGINAL-URL:https://theclayoven.co.uk
X-WR-CALDESC:Events for The Clay Oven
REFRESH-INTERVAL;VALUE=DURATION:PT1H
X-Robots-Tag:noindex
X-PUBLISHED-TTL:PT1H
BEGIN:VTIMEZONE
TZID:UTC
BEGIN:STANDARD
TZOFFSETFROM:+0000
TZOFFSETTO:+0000
TZNAME:UTC
DTSTART:20240101T000000
END:STANDARD
END:VTIMEZONE
BEGIN:VEVENT
DTSTART;TZID=UTC:20250214T190000
DTEND;TZID=UTC:20250215T010000
DTSTAMP:20260422T102132
CREATED:20250120T084602Z
LAST-MODIFIED:20250206T155837Z
UID:11321-1739559600-1739581200@theclayoven.co.uk
SUMMARY:VALENTINES DINNER AND DANCE WITH DJ AND LIVE PERFORMANCE 14TH FEBRUARY
DESCRIPTION:STARTERS – TABLE SERVICE \nTANDOORI CHICKEN  \nSEEKH KEBAB \nGRILLED PESTO TALAPIA \nHARA BHARA KEBAB \nPALAK PATTA CHAT \nCHILLI PANEER \nCHUTNEYS AND PICKLES \n  \nMAIN COURSE  – TABLE SERVICE         \nBUTTER CHICKEN \nLAMB ROGAN JOSH \nALOO TAKA TAK \nKARAHI PANEER \nSPECIAL DAL  \nJEERA RICE \nNAAN / PARATHA  \nRAITA/SALAD \n  \nDESSERTS \nGAJJER HALWA \nKULFI
URL:https://theclayoven.co.uk/event/valentines-dinner-and-dance-with-dj-and-live-performance-14th-february/
LOCATION:Clay Oven\, 197 Ealing Road\, london\, Middlesex\, HA0 4LW\, United Kingdom
ATTACH;FMTTYPE=image/jpeg:https://theclayoven.co.uk/wp-content/uploads/2024/01/Valentines-14th.jpg
END:VEVENT
BEGIN:VEVENT
DTSTART;TZID=UTC:20250215T190000
DTEND;TZID=UTC:20250216T010000
DTSTAMP:20260422T102132
CREATED:20250120T084831Z
LAST-MODIFIED:20250206T155433Z
UID:11315-1739646000-1739667600@theclayoven.co.uk
SUMMARY:VALENTINES DINNER AND DANCE WITH DJ AND LIVE PERFORMANCE 15TH FEBRUARY
DESCRIPTION:STARTERS – TABLE SERVICE \nTANDOORI CHICKEN  \nSEEKH KEBAB \nGRILLED PESTO TALAPIA \nHARA BHARA KEBAB \nPALAK PATTA CHAT \nCHILLI PANEER \nCHUTNEYS AND PICKLES \n  \nMAIN COURSE  – TABLE SERVICE         \nBUTTER CHICKEN \nLAMB ROGAN JOSH \nALOO TAKA TAK \nKARAHI PANEER \nSPECIAL DAL  \nJEERA RICE \nNAAN / PARATHA  \nRAITA/SALAD \n  \nDESSERTS \nGAJJER HALWA \nKULFI
URL:https://theclayoven.co.uk/event/valentines-dinner-and-dance-with-dj-and-live-performance-15th-february/
LOCATION:Clay Oven\, 197 Ealing Road\, london\, Middlesex\, HA0 4LW\, United Kingdom
ATTACH;FMTTYPE=image/jpeg:https://theclayoven.co.uk/wp-content/uploads/2025/01/Valentines-15th.jpg
END:VEVENT
END:VCALENDAR