BEGIN:VCALENDAR
VERSION:2.0
PRODID:-//The Clay Oven - ECPv6.15.20//NONSGML v1.0//EN
CALSCALE:GREGORIAN
METHOD:PUBLISH
X-ORIGINAL-URL:https://theclayoven.co.uk
X-WR-CALDESC:Events for The Clay Oven
REFRESH-INTERVAL;VALUE=DURATION:PT1H
X-Robots-Tag:noindex
X-PUBLISHED-TTL:PT1H
BEGIN:VTIMEZONE
TZID:UTC
BEGIN:STANDARD
TZOFFSETFROM:+0000
TZOFFSETTO:+0000
TZNAME:UTC
DTSTART:20240101T000000
END:STANDARD
END:VTIMEZONE
BEGIN:VEVENT
DTSTART;TZID=UTC:20251205T190000
DTEND;TZID=UTC:20251206T010000
DTSTAMP:20260419T124200
CREATED:20251009T163019Z
LAST-MODIFIED:20251010T051650Z
UID:12124-1764961200-1764982800@theclayoven.co.uk
SUMMARY:Christmas Dinner & Dance 5th December
DESCRIPTION:CHRISTMAS DINNER AND DANCE\nDJ\, Belly Dancers\, Magician \nPRE STARTERS BUFFET\nSAMOSA CHAT\nCHILLI GARLIC MOGO \nSTARTERS\nT/S\nPERI PERI CHICKEN TIKKA\nSEEKH KEBAB\nTANDDORI FISH TALAPIA\nPALAK PATTA CHAT\nCHILLI PANEER\nHARA BHARA KEBAB \nChutneys: green/hot & sweet mango\, pickles \nMAIN COURSE\nT/S\nMURG MAHARAJA\nLAMB DO PYAZ\n3 MIRCH KA PANEER\nNIZAMI HANDI\nALOO BAIGAN\nDAL MAKHANI \nJEERA RICE\nNAAN/KULCHA\nRAITA/SALAD \nDESSERT\nKULFI\nGAJER KA HALWA\nCHRISTMAS CAKE \nTRADITIONAL CHRISTMAS MENU – ROAST TURKEY\, BOILED VEGETABLES AND CURRY \nAll payment card details are held\, and any payments will be processed by Stripe Payments UK\, Ltd who acts on behalf of The Clay Oven UK Ltd. For full details of Stripe’s policy please visit https://stripe.com/gb/privacy \nAll bookings require full payment to secure your booking. \nIn the event that the booking is not honoured or is cancelled with less than 72hrs notice\, the full payment will be retained.
URL:https://theclayoven.co.uk/event/christmas-dinner-dance-5th-december/
LOCATION:Clay Oven\, 197 Ealing Road\, london\, Middlesex\, HA0 4LW\, United Kingdom
ATTACH;FMTTYPE=image/jpeg:https://theclayoven.co.uk/wp-content/uploads/2025/10/5th-Dec-Christmas-Dinner-Dance-ClayOven.jpg
END:VEVENT
BEGIN:VEVENT
DTSTART;TZID=UTC:20251206T190000
DTEND;TZID=UTC:20251207T010000
DTSTAMP:20260419T124200
CREATED:20251009T163015Z
LAST-MODIFIED:20251010T051850Z
UID:12123-1765047600-1765069200@theclayoven.co.uk
SUMMARY:Christmas Dinner & Dance 6th December
DESCRIPTION:CHRISTMAS DINNER AND DANCE\nDJ\, Live Singers\, Magician\, Bollywood Dancers \nPRE STARTERS BUFFET\nSAMOSA CHAT\nCHILLI GARLIC MOGO \nSTARTERS\nT/S\nPERI PERI CHICKEN TIKKA\nSEEKH KEBAB\nTANDDORI FISH TALAPIA\nPALAK PATTA CHAT\nCHILLI PANEER\nHARA BHARA KEBAB \nChutneys: green/hot & sweet mango\, pickles \nMAIN COURSE\nT/S\nMURG MAHARAJA\nLAMB DO PYAZ\n3 MIRCH KA PANEER\nNIZAMI HANDI\nALOO BAIGAN\nDAL MAKHANI \nJEERA RICE\nNAAN/KULCHA\nRAITA/SALAD \nDESSERT\nKULFI\nGAJER KA HALWA\nCHRISTMAS CAKE \nTRADITIONAL CHRISTMAS MENU – ROAST TURKEY\, BOILED VEGETABLES AND CURRY \nAll payment card details are held\, and any payments will be processed by Stripe Payments UK\, Ltd who acts on behalf of The Clay Oven UK Ltd. For full details of Stripe’s policy please visit https://stripe.com/gb/privacy \nAll bookings require full payment to secure your booking. \nIn the event that the booking is not honoured or is cancelled with less than 72hrs notice\, the full payment will be retained.
URL:https://theclayoven.co.uk/event/christmas-dinner-dance-6th-december/
LOCATION:Clay Oven\, 197 Ealing Road\, london\, Middlesex\, HA0 4LW\, United Kingdom
ATTACH;FMTTYPE=image/jpeg:https://theclayoven.co.uk/wp-content/uploads/2025/10/6h-Dec-Christmas-Dinner-Dance-ClayOven.jpg
END:VEVENT
BEGIN:VEVENT
DTSTART;TZID=UTC:20251212T190000
DTEND;TZID=UTC:20251213T010000
DTSTAMP:20260419T124200
CREATED:20251009T162957Z
LAST-MODIFIED:20251010T052505Z
UID:12120-1765566000-1765587600@theclayoven.co.uk
SUMMARY:Christmas Dinner & Dance 12th December
DESCRIPTION:CHRISTMAS DINNER AND DANCE\n DJ\, Belly Dancer\, Magician \nPRE STARTERS BUFFET\nSAMOSA CHAT\nCHILLI GARLIC MOGO \nSTARTERS\nT/S\nPERI PERI CHICKEN TIKKA\nSEEKH KEBAB\nTANDDORI FISH TALAPIA\nPALAK PATTA CHAT\nCHILLI PANEER\nHARA BHARA KEBAB \nChutneys: green/hot & sweet mango\, pickles \nMAIN COURSE\nT/S\nMURG MAHARAJA\nLAMB DO PYAZ\n3 MIRCH KA PANEER\nNIZAMI HANDI\nALOO BAIGAN\nDAL MAKHANI \nJEERA RICE\nNAAN/KULCHA\nRAITA/SALAD \nDESSERT\nKULFI\nGAJER KA HALWA\nCHRISTMAS CAKE \nTRADITIONAL CHRISTMAS MENU – ROAST TURKEY\, BOILED VEGETABLES AND CURRY \nAll payment card details are held\, and any payments will be processed by Stripe Payments UK\, Ltd who acts on behalf of The Clay Oven UK Ltd. For full details of Stripe’s policy please visit https://stripe.com/gb/privacy \nAll bookings require full payment to secure your booking. \nIn the event that the booking is not honoured or is cancelled with less than 72hrs notice\, the full payment will be retained.
URL:https://theclayoven.co.uk/event/christmas-dinner-dance-12th-december/
LOCATION:Clay Oven\, 197 Ealing Road\, london\, Middlesex\, HA0 4LW\, United Kingdom
ATTACH;FMTTYPE=image/jpeg:https://theclayoven.co.uk/wp-content/uploads/2025/10/12th-Dec-Christmas-Dinner-Dance-ClayOven.jpg
END:VEVENT
BEGIN:VEVENT
DTSTART;TZID=UTC:20251214T190000
DTEND;TZID=UTC:20251215T010000
DTSTAMP:20260419T124200
CREATED:20251009T162952Z
LAST-MODIFIED:20251010T052857Z
UID:12118-1765738800-1765760400@theclayoven.co.uk
SUMMARY:Christmas Dinner & Dance 14th December
DESCRIPTION:CHRISTMAS DINNER AND DANCE\nDJ\, Bollywood Dancers \nPRE STARTERS BUFFET\nSAMOSA CHAT\nCHILLI GARLIC MOGO \nSTARTERS\nT/S\nPERI PERI CHICKEN TIKKA\nSEEKH KEBAB\nTANDDORI FISH TALAPIA\nPALAK PATTA CHAT\nCHILLI PANEER\nHARA BHARA KEBAB \nChutneys: green/hot & sweet mango\, pickles \nMAIN COURSE\nT/S\nMURG MAHARAJA\nLAMB DO PYAZ\n3 MIRCH KA PANEER\nNIZAMI HANDI\nALOO BAIGAN\nDAL MAKHANI \nJEERA RICE\nNAAN/KULCHA\nRAITA/SALAD \nDESSERT\nKULFI\nGAJER KA HALWA\nCHRISTMAS CAKE \nTRADITIONAL CHRISTMAS MENU – ROAST TURKEY\, BOILED VEGETABLES AND CURRY \nAll payment card details are held\, and any payments will be processed by Stripe Payments UK\, Ltd who acts on behalf of The Clay Oven UK Ltd. For full details of Stripe’s policy please visit https://stripe.com/gb/privacy \nAll bookings require full payment to secure your booking. \nIn the event that the booking is not honoured or is cancelled with less than 72hrs notice\, the full payment will be retained.
URL:https://theclayoven.co.uk/event/christmas-dinner-dance-14th-december/
LOCATION:Clay Oven\, 197 Ealing Road\, london\, Middlesex\, HA0 4LW\, United Kingdom
ATTACH;FMTTYPE=image/jpeg:https://theclayoven.co.uk/wp-content/uploads/2025/10/14th-Dec-Christmas-Dinner-Dance-ClayOven.jpg
END:VEVENT
BEGIN:VEVENT
DTSTART;TZID=UTC:20251218T190000
DTEND;TZID=UTC:20251219T010000
DTSTAMP:20260419T124200
CREATED:20251009T162947Z
LAST-MODIFIED:20251010T053051Z
UID:12117-1766084400-1766106000@theclayoven.co.uk
SUMMARY:Christmas Dinner & Dance 18th December
DESCRIPTION:CHRISTMAS DINNER AND DANCE\nDJ \nPRE STARTERS BUFFET\nSAMOSA CHAT\nCHILLI GARLIC MOGO \nSTARTERS\nT/S\nPERI PERI CHICKEN TIKKA\nSEEKH KEBAB\nTANDDORI FISH TALAPIA\nPALAK PATTA CHAT\nCHILLI PANEER\nHARA BHARA KEBAB \nChutneys: green/hot & sweet mango\, pickles \nMAIN COURSE\nT/S\nMURG MAHARAJA\nLAMB DO PYAZ\n3 MIRCH KA PANEER\nNIZAMI HANDI\nALOO BAIGAN\nDAL MAKHANI \nJEERA RICE\nNAAN/KULCHA\nRAITA/SALAD \nDESSERT\nKULFI\nGAJER KA HALWA\nCHRISTMAS CAKE \nTRADITIONAL CHRISTMAS MENU – ROAST TURKEY\, BOILED VEGETABLES AND CURRY \nAll payment card details are held\, and any payments will be processed by Stripe Payments UK\, Ltd who acts on behalf of The Clay Oven UK Ltd. For full details of Stripe’s policy please visit https://stripe.com/gb/privacy \nAll bookings require full payment to secure your booking. \nIn the event that the booking is not honoured or is cancelled with less than 72hrs notice\, the full payment will be retained.
URL:https://theclayoven.co.uk/event/christmas-dinner-dance-18th-december/
LOCATION:Clay Oven\, 197 Ealing Road\, london\, Middlesex\, HA0 4LW\, United Kingdom
ATTACH;FMTTYPE=image/jpeg:https://theclayoven.co.uk/wp-content/uploads/2025/10/18th-Dec-Christmas-Dinner-Dance-ClayOven.jpg
END:VEVENT
BEGIN:VEVENT
DTSTART;TZID=UTC:20251219T190000
DTEND;TZID=UTC:20251220T010000
DTSTAMP:20260419T124200
CREATED:20251009T162942Z
LAST-MODIFIED:20251125T155153Z
UID:12116-1766170800-1766192400@theclayoven.co.uk
SUMMARY:Christmas Dinner & Dance 19th December
DESCRIPTION:CHRISTMAS DINNER AND DANCE\nDJ\, Belly Dancers\, Magician \nPRE STARTERS BUFFET\nSAMOSA CHAT\nCHILLI GARLIC MOGO \nSTARTERS\nT/S\nPERI PERI CHICKEN TIKKA\nSEEKH KEBAB\nTANDDORI FISH TALAPIA\nPALAK PATTA CHAT\nCHILLI PANEER\nHARA BHARA KEBAB \nChutneys: green/hot & sweet mango\, pickles \nMAIN COURSE\nT/S\nMURG MAHARAJA\nLAMB DO PYAZ\n3 MIRCH KA PANEER\nNIZAMI HANDI\nALOO BAIGAN\nDAL MAKHANI \nJEERA RICE\nNAAN/KULCHA\nRAITA/SALAD \nDESSERT\nKULFI\nGAJER KA HALWA\nCHRISTMAS CAKE \nTRADITIONAL CHRISTMAS MENU – ROAST TURKEY\, BOILED VEGETABLES AND CURRY \nAll payment card details are held\, and any payments will be processed by Stripe Payments UK\, Ltd who acts on behalf of The Clay Oven UK Ltd. For full details of Stripe’s policy please visit https://stripe.com/gb/privacy \nAll bookings require full payment to secure your booking. \nIn the event that the booking is not honoured or is cancelled with less than 72hrs notice\, the full payment will be retained.
URL:https://theclayoven.co.uk/event/christmas-dinner-dance-19th-december/
LOCATION:Clay Oven\, 197 Ealing Road\, london\, Middlesex\, HA0 4LW\, United Kingdom
ATTACH;FMTTYPE=image/jpeg:https://theclayoven.co.uk/wp-content/uploads/2025/10/19th-Dec-Christmas-Dinner-Dance-ClayOven.jpg
END:VEVENT
BEGIN:VEVENT
DTSTART;TZID=UTC:20251220T190000
DTEND;TZID=UTC:20251221T010000
DTSTAMP:20260419T124200
CREATED:20251009T162936Z
LAST-MODIFIED:20251010T053531Z
UID:12115-1766257200-1766278800@theclayoven.co.uk
SUMMARY:Christmas Dinner & Dance 20th December
DESCRIPTION:CHRISTMAS DINNER AND DANCE\nDJ\, Live Singers\, Bollywood Dancers\, Magician \nPRE STARTERS BUFFET\nSAMOSA CHAT\nCHILLI GARLIC MOGO \nSTARTERS\nT/S\nPERI PERI CHICKEN TIKKA\nSEEKH KEBAB\nTANDDORI FISH TALAPIA\nPALAK PATTA CHAT\nCHILLI PANEER\nHARA BHARA KEBAB \nChutneys: green/hot & sweet mango\, pickles \nMAIN COURSE\nT/S\nMURG MAHARAJA\nLAMB DO PYAZ\n3 MIRCH KA PANEER\nNIZAMI HANDI\nALOO BAIGAN\nDAL MAKHANI \nJEERA RICE\nNAAN/KULCHA\nRAITA/SALAD \nDESSERT\nKULFI\nGAJER KA HALWA\nCHRISTMAS CAKE \nTRADITIONAL CHRISTMAS MENU – ROAST TURKEY\, BOILED VEGETABLES AND CURRY \nAll payment card details are held\, and any payments will be processed by Stripe Payments UK\, Ltd who acts on behalf of The Clay Oven UK Ltd. For full details of Stripe’s policy please visit https://stripe.com/gb/privacy \nAll bookings require full payment to secure your booking. \nIn the event that the booking is not honoured or is cancelled with less than 72hrs notice\, the full payment will be retained.
URL:https://theclayoven.co.uk/event/christmas-dinner-dance-20th-december/
LOCATION:Clay Oven\, 197 Ealing Road\, london\, Middlesex\, HA0 4LW\, United Kingdom
ATTACH;FMTTYPE=image/jpeg:https://theclayoven.co.uk/wp-content/uploads/2025/10/20th-Dec-Christmas-Dinner-Dance-ClayOven.jpg
END:VEVENT
BEGIN:VEVENT
DTSTART;TZID=UTC:20251221T190000
DTEND;TZID=UTC:20251222T010000
DTSTAMP:20260419T124200
CREATED:20251009T162930Z
LAST-MODIFIED:20251010T053839Z
UID:12126-1766343600-1766365200@theclayoven.co.uk
SUMMARY:Christmas Dinner & Dance 21st December
DESCRIPTION:CHRISTMAS DINNER AND DANCE\n DJ\, Bollywood Dancers \nPRE STARTERS BUFFET\nSAMOSA CHAT\nCHILLI GARLIC MOGO \nSTARTERS\nT/S\nPERI PERI CHICKEN TIKKA\nSEEKH KEBAB\nTANDDORI FISH TALAPIA\nPALAK PATTA CHAT\nCHILLI PANEER\nHARA BHARA KEBAB \nChutneys: green/hot & sweet mango\, pickles \nMAIN COURSE\nT/S\nMURG MAHARAJA\nLAMB DO PYAZ\n3 MIRCH KA PANEER\nNIZAMI HANDI\nALOO BAIGAN\nDAL MAKHANI \nJEERA RICE\nNAAN/KULCHA\nRAITA/SALAD \nDESSERT\nKULFI\nGAJER KA HALWA\nCHRISTMAS CAKE \nTRADITIONAL CHRISTMAS MENU – ROAST TURKEY\, BOILED VEGETABLES AND CURRY \nAll payment card details are held\, and any payments will be processed by Stripe Payments UK\, Ltd who acts on behalf of The Clay Oven UK Ltd. For full details of Stripe’s policy please visit https://stripe.com/gb/privacy \nAll bookings require full payment to secure your booking. \nIn the event that the booking is not honoured or is cancelled with less than 72hrs notice\, the full payment will be retained.
URL:https://theclayoven.co.uk/event/christmas-dinner-dance-21st-december/
LOCATION:Clay Oven\, 197 Ealing Road\, london\, Middlesex\, HA0 4LW\, United Kingdom
ATTACH;FMTTYPE=image/jpeg:https://theclayoven.co.uk/wp-content/uploads/2025/10/21st-Dec-Christmas-Dinner-Dance-ClayOven.jpg
END:VEVENT
BEGIN:VEVENT
DTSTART;TZID=UTC:20251224T190000
DTEND;TZID=UTC:20251225T010000
DTSTAMP:20260419T124200
CREATED:20251008T200147Z
LAST-MODIFIED:20251010T054126Z
UID:12092-1766602800-1766624400@theclayoven.co.uk
SUMMARY:Christmas Dinner & Dance 24th December
DESCRIPTION:CHRISTMAS DINNER AND DANCE\nDJ\, Bollywood Dancers\, Magician \nPRE STARTERS BUFFET\nSAMOSA CHAT\nCHILLI GARLIC MOGO \nSTARTERS\nT/S\nPERI PERI CHICKEN TIKKA\nSEEKH KEBAB\nTANDDORI FISH TALAPIA\nPALAK PATTA CHAT\nCHILLI PANEER\nHARA BHARA KEBAB \nChutneys: green/hot & sweet mango\, pickles \nMAIN COURSE\nT/S\nMURG MAHARAJA\nLAMB DO PYAZ\n3 MIRCH KA PANEER\nNIZAMI HANDI\nALOO BAIGAN\nDAL MAKHANI \nJEERA RICE\nNAAN/KULCHA\nRAITA/SALAD \nDESSERT\nKULFI\nGAJER KA HALWA\nCHRISTMAS CAKE \nTRADITIONAL CHRISTMAS MENU – ROAST TURKEY\, BOILED VEGETABLES AND CURRY \nAll payment card details are held\, and any payments will be processed by Stripe Payments UK\, Ltd who acts on behalf of The Clay Oven UK Ltd. For full details of Stripe’s policy please visit https://stripe.com/gb/privacy \nAll bookings require full payment to secure your booking. \nIn the event that the booking is not honoured or is cancelled with less than 72hrs notice\, the full payment will be retained.
URL:https://theclayoven.co.uk/event/christmas-dinner-dance-4th-december/
LOCATION:Clay Oven\, 197 Ealing Road\, london\, Middlesex\, HA0 4LW\, United Kingdom
ATTACH;FMTTYPE=image/jpeg:https://theclayoven.co.uk/wp-content/uploads/2025/10/24th-Dec-Christmas-Dinner-Dance-ClayOven.jpg
END:VEVENT
BEGIN:VEVENT
DTSTART;TZID=UTC:20251231T190000
DTEND;TZID=UTC:20260101T010000
DTSTAMP:20260419T124200
CREATED:20251013T091253Z
LAST-MODIFIED:20260127T195110Z
UID:12216-1767207600-1767229200@theclayoven.co.uk
SUMMARY:NYE Dinner & Dance 31st December
DESCRIPTION:NYE DINNER AND DANCE\nDJ\, Bollywood Dancers\, LIVE SINGERS \nSTARTERS\nT/S\nMURG MALAI TIKKA\nLAMB BURRA KEBAB\nSCHEZWAN PRAWN\nSTUFFED MUSHROOM WITH PANEER\nBEETROOT TIKKI\nPALAK PATTA CHAT \nChutneys: green/hot & sweet mango\, pickles \nMAIN COURSE\nT/S\nBUTTER CHICKEN\nHANDI NALLI GOSHT\nALOO BAIGAN\nTEEN MIRCH KA PANEER\nSABZ MELONI\nDAL BUKHARA\nPEAS PILAU RICE \nNAAN\nSTUFFED KULCHA\nROTI \nDESSERT COUNTER\nKULFI\nGAJJAR KA HALWA\nRASMALAI \nTEA & COFFEE AFTER MIDNIGHT \nAll payment card details are held\, and any payments will be processed by Stripe Payments UK\, Ltd who acts on behalf of The Clay Oven UK Ltd. For full details of Stripe’s policy please visit https://stripe.com/gb/privacy \nAll bookings require full payment to secure your booking. \nIn the event that the booking is not honoured or is cancelled with less than 72hrs notice\, the full payment will be retained.
URL:https://theclayoven.co.uk/event/nye-dinner-dance-31st-december/
LOCATION:Clay Oven\, 197 Ealing Road\, london\, Middlesex\, HA0 4LW\, United Kingdom
ATTACH;FMTTYPE=image/jpeg:https://theclayoven.co.uk/wp-content/uploads/2025/10/31st-Dec-NYE-Dinner-Dance-ClayOven.jpg
END:VEVENT
END:VCALENDAR